BEGIN:VCALENDAR
VERSION:2.0
PRODID:-//New Jersey Asphalt Pavement Association - ECPv6.15.19//NONSGML v1.0//EN
CALSCALE:GREGORIAN
METHOD:PUBLISH
X-WR-CALNAME:New Jersey Asphalt Pavement Association
X-ORIGINAL-URL:https://www.njapa.com
X-WR-CALDESC:Events for New Jersey Asphalt Pavement Association
REFRESH-INTERVAL;VALUE=DURATION:PT1H
X-Robots-Tag:noindex
X-PUBLISHED-TTL:PT1H
BEGIN:VTIMEZONE
TZID:America/New_York
BEGIN:DAYLIGHT
TZOFFSETFROM:-0500
TZOFFSETTO:-0400
TZNAME:EDT
DTSTART:20250309T070000
END:DAYLIGHT
BEGIN:STANDARD
TZOFFSETFROM:-0400
TZOFFSETTO:-0500
TZNAME:EST
DTSTART:20251102T060000
END:STANDARD
BEGIN:DAYLIGHT
TZOFFSETFROM:-0500
TZOFFSETTO:-0400
TZNAME:EDT
DTSTART:20260308T070000
END:DAYLIGHT
BEGIN:STANDARD
TZOFFSETFROM:-0400
TZOFFSETTO:-0500
TZNAME:EST
DTSTART:20261101T060000
END:STANDARD
BEGIN:DAYLIGHT
TZOFFSETFROM:-0500
TZOFFSETTO:-0400
TZNAME:EDT
DTSTART:20270314T070000
END:DAYLIGHT
BEGIN:STANDARD
TZOFFSETFROM:-0400
TZOFFSETTO:-0500
TZNAME:EST
DTSTART:20271107T060000
END:STANDARD
END:VTIMEZONE
BEGIN:VEVENT
DTSTART;TZID=America/New_York:20260108T100000
DTEND;TZID=America/New_York:20260108T113000
DTSTAMP:20260422T043959
CREATED:20251113T134726Z
LAST-MODIFIED:20251113T135227Z
UID:37882-1767866400-1767871800@www.njapa.com
SUMMARY:Understanding Pavement Distress Webinar
DESCRIPTION:[vc_row][vc_column][vc_column_text css=””] \nUnderstanding Pavement Distress Webinar\nPresented by NJ Asphalt Pavement Association\nWhen: Thursday\, January 8\, 2026\nWhere: Webinar\nTime: 10am-11:30am\nCost: $50.00 NJAPA Members\n$99.00 Non-Members\nGovernment Agencies – No Charge\nSpeaker:\nMark Buncher\, Ph. D.\, P.E. \nAsphalt Institute \nAll pavements deteriorate over time. Understanding the different types of pavement distress and what causes those types of distress is a fundamental requirement in order to design\, construct and maintain a quality roadway.\n\nThis webinar will cover:\n• Pavement distress investigation\n• The cause(s) of common asphalt pavement distress types\n• Pavement design elements necessary to resist premature deterioration\n• The effectiveness of different maintenance strategies on various distresses\n\nWho Should Attend\nThis webinar was developed for those involved with design\, construction and maintenance asphalt roadways. It is intended to focus on areas critical to maximizing asphalt pavement performance and life. Agency\, consultant\, supplier\, and contractor personnel at all experience levels will benefit from this webinar. \nPrior to the webinar\, you will receive a link to the program. There will be no refunds after January 1\, 2026. This webinar qualifies for 1.5 NJSAT hours.\n\nIf you have any questions\, please contact Stacey Lindenmuth in the NJAPA office at (609) 838-1867 or email her at Staceyl@njapa.com\n\nThank you.[/vc_column_text][/vc_column][/vc_row]
URL:https://www.njapa.com/event/understanding-pavement-distress-webinar-3/
LOCATION:Webinar
ORGANIZER;CN="Stacey Lindenmuth":MAILTO:staceyl@njapa.com
END:VEVENT
BEGIN:VEVENT
DTSTART;TZID=America/New_York:20260122T100000
DTEND;TZID=America/New_York:20260122T113000
DTSTAMP:20260422T043959
CREATED:20251113T133452Z
LAST-MODIFIED:20251114T123149Z
UID:37877-1769076000-1769081400@www.njapa.com
SUMMARY:Trouble Shooting Asphalt Mix Design
DESCRIPTION:[vc_row][vc_column][vc_column_text css=””] \nTrouble Shooting Asphalt Mix Design Webinar\nPresented by NJ Asphalt Pavement Association\nWhen: Thursday\, January 22\, 2026\nWhere: Webinar\nTime: 10am-11:30am\nCost: $50.00 NJAPA Members\n$99.00 Non-Members\nGovernment Agencies – No Charge\nSpeaker:\nDanny Gierhart\, Director of Engineering and Training\nAsphalt Institute \nThis webinar discusses some important asphalt mix characteristics and the most common mix issue with translating a laboratory-prepared mix design to field production. Several methods are discussed to optimize the mix design and make it easier to make plant adjustments that address the most common problems associated with air voids and voids in mineral aggregate (VMA). \n• Introduction\n• Demystifying Asphalt Mix Properties\n• Tips and tools for lab control of mix designs\n• Tips and tools for field control of mix designs \nWho Should Attend\nThis webinar is intended for technicians and asphalt mix designers\, asphalt plant personnel\, inspectors\, supervisors and managers. This includes contractors\, consultants\, engineers\, and agencies\, including federal agencies such as FAA\, FHWA\, and military as well as DOD contractors\, state DOT\, city and county personnel\, and facility and asset managers responsible for asphalt projects (highways\, streets\, roads\, airfields\, ports\, etc.).\n\nPrior to the webinar\, you will receive a link to the program. There will be no refunds after January 15\, 2026. This webinar qualifies for 1.5 NJSAT hours.\n\nIf you have any questions\, please contact Stacey Lindenmuth in the NJAPA office at (609) 838-1867 or email her at Staceyl@njapa.com\n\nThank you.[/vc_column_text][/vc_column][/vc_row]
URL:https://www.njapa.com/event/trouble-shooting-asphalt-mix-design-webinar/
LOCATION:Webinar
ORGANIZER;CN="Stacey Lindenmuth":MAILTO:staceyl@njapa.com
END:VEVENT
BEGIN:VEVENT
DTSTART;TZID=America/New_York:20260225T080000
DTEND;TZID=America/New_York:20260225T140000
DTSTAMP:20260422T043959
CREATED:20260113T133658Z
LAST-MODIFIED:20260113T133658Z
UID:38544-1772006400-1772028000@www.njapa.com
SUMMARY:Asphalt Plant Maintenance Operations and Impact on Production
DESCRIPTION:[vc_row][vc_column][vc_column_text css=””] \nNJAPA Educational Seminar \nAsphalt Plant Maintenance Operations and Impact on Production \nPlease join us on Wednesday\, February 25\, 2026 at Forsgate Country Club\, 375 Forsgate Drive\, Monroe Township\, NJ from 8am to 2pm. The seminar includes continental breakfast and lunch. \nThe cost to attend is $125.00 for NJAPA members and $229.00 for non-members. \nWho Should Attend? \n• Asphalt Plant Operators\n• Operations Managers\n• Quality Control Technicians\n• Loader Operators\n• Engineers \nWhat Will You Learn? \n• Plant Inspection Process\n• Safety During Maintenance Activities\n• Scheduling Preventative Maintenance\n• What Should Be Done Daily\, Weekly\, Monthly\, Annually\n• Emission Controls\n• Scales and Metering\n• AC Tanks & Feed Bins\n• Structural Repairs and More\n• How all of These Contribute to Efficient Laydown \nIf you have any questions\, please contact Stacey Lindenmuth in the NJAPA office at (609) 838-1867 or email her at Staceyl@njapa.com[/vc_column_text][/vc_column][/vc_row]
URL:https://www.njapa.com/event/asphalt-plant-maintenance-operationslity-impact-production-webinar-2/
LOCATION:Forsgate Country Club\, 375 Forsgate Drive\, Monroe Township\, NJ\, 08831
ORGANIZER;CN="Stacey Lindenmuth":MAILTO:staceyl@njapa.com
END:VEVENT
BEGIN:VEVENT
DTSTART;TZID=America/New_York:20260225T190000
DTEND;TZID=America/New_York:20260225T230000
DTSTAMP:20260422T043959
CREATED:20260127T153947Z
LAST-MODIFIED:20260127T153947Z
UID:38604-1772046000-1772060400@www.njapa.com
SUMMARY:NJ Devils vs. Buffalo Sabres Game
DESCRIPTION:[vc_row][vc_column][vc_column_text css=””]Please Join the NJ Asphalt Pavement Association\, NJ Construction Materials Association and  Women of Asphalt- NJ Branch  \nFor a Night of NHL Hockey- NJ Devils vs. Buffalo Sabres \nSponsored By K & L Gates\, LLP \nWe are excited to invite you to enjoy a night out to experience fun\, food\, and a hockey game all from the comfort of a private suite.  Join us on Wednesday\, February 25\, 2026 at the Prudential Center\, 25 Lafayette Street\, Newark\, NJ.  Gates open at 6:00 pm and the game begins at 7:00 pm.  The cost is $270.00 per person. \nYour registration includes game ticket in a private suite\, food\, snacks\, water\, soda\, beer and wine all included.  Attendance is limited please register your attendees today. \nTo RSVP for the event please click here and fill out form and email it to Stacey Lindenmuth at staceyl@njapa.com in the NJAPA office.  Return the form by Wednesday\, February 18\, 2026.[/vc_column_text][/vc_column][/vc_row]
URL:https://www.njapa.com/event/devils-game/
LOCATION:Prudential Center\, 25 Lafayette Street\, Newark\, NJ\, United States
ORGANIZER;CN="Stacey Lindenmuth":MAILTO:staceyl@njapa.com
END:VEVENT
BEGIN:VEVENT
DTSTART;TZID=America/New_York:20260310T070000
DTEND;TZID=America/New_York:20260310T153000
DTSTAMP:20260422T043959
CREATED:20260202T190523Z
LAST-MODIFIED:20260218T183713Z
UID:38584-1773126000-1773156600@www.njapa.com
SUMMARY:69th Annual NJ Asphalt Paving Conference
DESCRIPTION:[vc_row row_type=”row_full_center_content” bg_image=”1135″ bg_position=”center center”][vc_column][vc_row_inner equal_height=”yes”][vc_column_inner el_class=”event-intro-bg” width=”1/2″ css=”.vc_custom_1675457057535{padding-top: 6% !important;padding-right: 3% !important;padding-bottom: 6% !important;padding-left: 3% !important;}”][vc_column_text css=””]The Annual Asphalt Pavement Conference is New Jersey’s top event for professionals working in all phases of asphalt paving construction\, operations\, and research. \nNow in its 69th year\, the New Jersey Asphalt Paving Conference draws more than 300 consultants\, contractors\, suppliers\, designers\, government agency employees\, researchers\, and others involved in the paving industry. \nThis is the perfect opportunity to stay current with the latest advancements in the industry and make connections with other professionals to share your ideas\, challenges\, and success stories. The event is widely attended by asphalt paving contractors\, consulting engineers\, county engineers\, road supervisors\, and municipal engineers. \nSpeakers address issues of quality\, research\, product and process innovations\, recycling\, deep strength/full-depth asphalt\, and related construction practices. \nTo sponsor this event click here.[/vc_column_text][/vc_column_inner][vc_column_inner width=”1/2″][vc_column_text css=”” el_class=”ticket-form-top”]\n	\n\n		\n		\n		\n\n		\n\n\n		\n\n\n\n	Tickets\n\n		\n	\n	\n		The numbers below include tickets for this event already in your cart. Clicking "Get Tickets" will allow you to edit any existing attendee information as well as change ticket quantities.	\n\n\n		\n		\n		\n	\n		Tickets are no longer available	\n\n\n		\n	\n	\n\n	\n	\n\n	\n	\n\n\n\n			\n\n	\n\n\n[/vc_column_text][vc_column_text css=”.vc_custom_1769551833239{padding-top: 6% !important;padding-right: 6% !important;padding-bottom: 6% !important;padding-left: 6% !important;background-color: #ffffff !important;border-radius: 4px !important;}” el_class=”disclaimer”] \nIMPORTANT INFORMATION \nNJAPA is an authorized provider of continuing professional competency credits for professional engineers in New Jersey. This program may be eligible for up to 3 PDHs. With any course offering PDH credit\, it is the responsibility of the individual licensee to confirm the acceptance of PDHs for continuing professional competency for licensed professional engineers. As each state has different professional competency requirements\, please consult with the licensure board for your state to confirm acceptance with their rules and regulations. NJ Certified Public Works Managers (CPWM) receive 3 Technical and 2.5 Management credits has approved the by NJ Department of Community Affairs. \nThis Conference may be eligible for up to 3 hours of PDH for the NJ Board of Professional Engineers. New Jersey Certified Public Works Managers credit is 3.0 contact hours Technical and 2.5 contact hours Management. \n Certified HMA Construction and Plant Technologists are required to earn at least 20 hours of continuing education over a 5-year period to maintain NJSAT certification. This conference offers 6 hours towards this requirement. \nAdvanced registration is strongly recommended. Make checks payable to NJAPA and mail to: \nNJAPA\n100 Horizon Center Boulevard\, Suite 118\nHamilton\, NJ 08691 \nCancellations must be received in writing via email by February 28\, 2026\, in order to receive a refund. Refunds will not be given for any reason after February 28\, 2026. The conference will not be canceled in the case of inclement weather. \nFor more information:\nStacey Lindenmuth\, NJAPA Event Coordinator\nstaceyl@njapa.com • 609-838-1867 \n[/vc_column_text][/vc_column_inner][/vc_row_inner][/vc_column][/vc_row][vc_row row_type=”row_full_center_content” bg_color=”#ffc438″ bg_position=”center center” class=”header-spacing-fix”][vc_column][vc_column_text] \nAsphalt Paving Conference Agenda \n[/vc_column_text][vc_column_text css=””] \nMARCH 10\, 2026 \n[/vc_column_text][/vc_column][/vc_row][vc_row row_type=”row_full_center_content” bg_color=”#ffc438″][vc_column width=”1/2″][vc_column_text css=””] \n7:00 – 8:00am\nRegistration & Continental Breakfast\nPLEASE BE SURE TO VISIT OUR EXHIBITORS \n8:00 – 8:15am\nWelcome & Introductions\nPeter Kochek\, Weldon Materials/NJAPA President\nKevin Monaco\, NJAPA Executive Director\n \n8:15 – 9:15am\nEmerging Digital Technologies in Road Building\nCraig Lamarque\, Vice President\, Digital Products Group-Wirtgen America\n \n9:15 – 10:00am\nHigh Pressure Water Technology for Asphalt Silo Cleaning\nLarry Wolfson – Adler Industrial Services\n \n10:00 – 10:15am\nBreak\nPLEASE BE SURE TO VISIT OUR EXHIBITORS\n \n10:15 – 10:45am\nNJDOT Experience with Specialty Mixes\nNusrat Morshed\, Supervising Engineer\, Pavement Design & Technology – NJDOT\n \n10:45 – 11:00am\nNJDOT High RAP Specification & Testing\nMark Gillece\, Project Engineer – NJDOT Bureau of Materials \nRAP Stockpile Approval at NJDOT\nRyan Rathbun\, Geologist 4\, Soil\, Aggregates & Cement Labs – NJDOT Bureau of Materials  \n11:00 – 11:15am\nUpdate from the NJ Society of Asphalt Technologists\nDarius Pezeshki\, President – NJSAT\n[/vc_column_text][/vc_column][vc_column width=”1/2″][vc_column_text css=””]11:15am – 12:00pm\nRowan University- CREATES Focused Research Update- Plastic-Modified and Highly Elastic Binders\, Design & Construction of Porous Pavements & Electrically Heated Asphalt Pavements\nAyman Ali\, Associate Director – CREATEs\, Rowan University \nDr. Yusuf Mehta\, Ph.D.\, P.E. – CREATEs\, Rowan University \n12:00pm – 1:00pm\nLunch\nPLEASE BE SURE TO VISIT OUR EXHIBITORS \n1:00 – 1:45pm\nRutgers University Research Update\nThomas Bennert\, Ph.D.\, Research Professor Center for Advanced Infrastructure and Transportation (CAIT) \n1:45 – 2:00pm\nNew Jersey Department of Transportation Update\nRobert J. Blight\, Executive Manager\, Pavement & Drainage Management & Technology Bureau\, Division of Highway Design – NJDOT\n \n2:00 – 2:15pm\nUpdate from NJ Branch- Women of Asphalt\nMarilyn Grabowski\, Atlantic-Infra/President NJ Branch WOA \n2:15 – 2:30pm\nNJ Turnpike Authority Update\nDan DeStefano\, Project Engineer\, Highway Design – New Jersey Turnpike Authority\n \n2:30 – 3:30pm\nMix Busters – The Truth About Asphalt Myths\nBuzz Powell\, PhD\, PE\, Technical Director – Asphalt Pavement Alliance\n \n3:30pm\nADJOURNMENT \n[/vc_column_text][/vc_column][/vc_row][vc_row row_type=”row_full_center_content” bg_color=”#f2f2f2″ bg_position=”center center”][vc_column][vc_column_text css=”.vc_custom_1613168963977{margin-bottom: 0px !important;}” el_class=”header-spacing-fix”] \nPast Participants & Invitees \n[/vc_column_text][vc_column_text]Atlantic City Expressway • Delaware River Joint Toll Bridge Commission • Delaware River Port Authority • Fairleigh- Dickinson University • Federal Highway Administration • Hackensack Meadowlands Development Commission • New Jersey Department of Commerce • New Jersey Department of Education • New Jersey Department of Environmental Protection • New Jersey Department of Transportation • New Jersey Institute of Technology • New Jersey Society of Professional Engineers • New Jersey Sports and Exposition Authority • New Jersey State Architect\, Department of the Treasury • New Jersey Transit Corp. • New Jersey Turnpike Authority • Palisades Interstate Park Commission • Port Authority of New York and New Jersey • Princeton University • Rowan University • Rutgers University • Stevens Institute of Technology • U.S. Army Corps of Engineers • U.S. Environmental Protection Agency • U.S. Navy Headquarters and Engineering Staff[/vc_column_text][/vc_column][/vc_row][vc_row row_type=”row_full_center_content” bg_color=”#ffc438″ bg_position=”center center” class=”header-spacing-fix hide-row”][vc_column][vc_btn title=”SPEAKER BIOS” style=”classic” color=”black” align=”center” link=”url:http%3A%2F%2Fwww.njapa.com%2Fwp-content%2Fuploads%2F2022%2F02%2F2022-bios.pdf|title:2022%20Bios|target:_blank” el_class=”bios-button”][/vc_column][/vc_row]
URL:https://www.njapa.com/event/69th-annual-nj-asphalt-paving-conference-2/
LOCATION:Forsgate Country Club\, 375 Forsgate Drive\, Monroe Township\, NJ\, 08831
ORGANIZER;CN="NJAPA":MAILTO:staceyl@njapa.com
END:VEVENT
BEGIN:VEVENT
DTSTART;TZID=America/New_York:20260507T180000
DTEND;TZID=America/New_York:20260507T210000
DTSTAMP:20260422T043959
CREATED:20260408T145712Z
LAST-MODIFIED:20260408T152049Z
UID:39240-1778176800-1778187600@www.njapa.com
SUMMARY:NJ Asphalt Pavement Association Awards Reception
DESCRIPTION:[vc_row][vc_column][vc_column_text css=””]The NJAPA Awards Reception will be held on Thursday\, May 7\, 2026 at The Wave Resort\, Long Branch\, NJ starting at 6:00 p.m. \nThis year’s Hall of Fame Inductee is John Davies of Montecalvo and Bayshore Family of Companies. \nJohn Davies is currently the Vice President of Engineering for the Montecalvo and Bayshore Family of Companies. John has previously served on the NJAPA Board of Directors for many years\, including serving as NJAPA Treasurer from 2012 – 2013 and serving as President of the NJAPA from 2014-2016. John also served on the NJAPA Promotions Committee and continues to serve on the NJAPA Environmental Committee. \nThis year’s Cliff Heath Award recipient is Philip Beachem\, former President of the New Jersey Alliance for Action. \nPhilip Beachem served as President of the New Jersey Alliance for Action from 1996 until his retirement at the end of 2020. He previously served the organization as Vice President and Executive Vice President from 1987-1996. Through his position as President\, Mr. Beachem has worked with Governors\, Congressional Representatives and State Legislators of both parties to further the State’s and the regions investments in infrastructure projects.[/vc_column_text][/vc_column][/vc_row]
URL:https://www.njapa.com/event/nj-asphalt-pavement-association-awards-reception/
LOCATION:The Wave Resort\, 110 Ocean Avenue 7\, Long Branch\, NJ\, 07740\, United States
ORGANIZER;CN="Stacey Lindenmuth":MAILTO:staceyl@njapa.com
END:VEVENT
END:VCALENDAR