BEGIN:VCALENDAR
VERSION:2.0
PRODID:-//New Jersey Asphalt Pavement Association - ECPv6.15.19//NONSGML v1.0//EN
CALSCALE:GREGORIAN
METHOD:PUBLISH
X-WR-CALNAME:New Jersey Asphalt Pavement Association
X-ORIGINAL-URL:https://www.njapa.com
X-WR-CALDESC:Events for New Jersey Asphalt Pavement Association
REFRESH-INTERVAL;VALUE=DURATION:PT1H
X-Robots-Tag:noindex
X-PUBLISHED-TTL:PT1H
BEGIN:VTIMEZONE
TZID:America/New_York
BEGIN:DAYLIGHT
TZOFFSETFROM:-0500
TZOFFSETTO:-0400
TZNAME:EDT
DTSTART:20240310T070000
END:DAYLIGHT
BEGIN:STANDARD
TZOFFSETFROM:-0400
TZOFFSETTO:-0500
TZNAME:EST
DTSTART:20241103T060000
END:STANDARD
BEGIN:DAYLIGHT
TZOFFSETFROM:-0500
TZOFFSETTO:-0400
TZNAME:EDT
DTSTART:20250309T070000
END:DAYLIGHT
BEGIN:STANDARD
TZOFFSETFROM:-0400
TZOFFSETTO:-0500
TZNAME:EST
DTSTART:20251102T060000
END:STANDARD
BEGIN:DAYLIGHT
TZOFFSETFROM:-0500
TZOFFSETTO:-0400
TZNAME:EDT
DTSTART:20260308T070000
END:DAYLIGHT
BEGIN:STANDARD
TZOFFSETFROM:-0400
TZOFFSETTO:-0500
TZNAME:EST
DTSTART:20261101T060000
END:STANDARD
END:VTIMEZONE
BEGIN:VEVENT
DTSTART;TZID=America/New_York:20251015T093000
DTEND;TZID=America/New_York:20251015T130000
DTSTAMP:20260420T091657
CREATED:20250820T132613Z
LAST-MODIFIED:20250908T191906Z
UID:37637-1760520600-1760533200@www.njapa.com
SUMMARY:Women of Asphalt NJ Branch Event
DESCRIPTION:[vc_row][vc_column][vc_column_text css=””]Please join the Women of Asphalt\, NJ Branch on October 15\, 2025 for Paving the Way to Sustainability – Earle Asphalt Plant Tour. Attendees will meet at Earle Asphalt Plant\, 655 S. Hope Chapel Road\, Jackson\, NJ at 9:30am\, the program will start at 10am and there will be a networking lunch at 12 noon. \nRegistration is free\, however\, you must register to attend. Please email Stacey Lindenmuth in the NJAPA office at staceyl@njapa.com by Friday\, October 10\, 2025. Please include your name\, company and if you will be attending the lunch. For more details and to registration click here.[/vc_column_text][/vc_column][/vc_row]
URL:https://www.njapa.com/event/women-of-asphalt-nj-branch-event/
LOCATION:Earle Asphalt\, 655 S. Hope Chapel Road\, Jackson\, NJ\, 08527\, United States
ORGANIZER;CN="NJAPA":MAILTO:staceyl@njapa.com
END:VEVENT
END:VCALENDAR