BEGIN:VCALENDAR
VERSION:2.0
PRODID:-//New Jersey Asphalt Pavement Association - ECPv6.15.19//NONSGML v1.0//EN
CALSCALE:GREGORIAN
METHOD:PUBLISH
X-WR-CALNAME:New Jersey Asphalt Pavement Association
X-ORIGINAL-URL:https://www.njapa.com
X-WR-CALDESC:Events for New Jersey Asphalt Pavement Association
REFRESH-INTERVAL;VALUE=DURATION:PT1H
X-Robots-Tag:noindex
X-PUBLISHED-TTL:PT1H
BEGIN:VTIMEZONE
TZID:America/New_York
BEGIN:DAYLIGHT
TZOFFSETFROM:-0500
TZOFFSETTO:-0400
TZNAME:EDT
DTSTART:20250309T070000
END:DAYLIGHT
BEGIN:STANDARD
TZOFFSETFROM:-0400
TZOFFSETTO:-0500
TZNAME:EST
DTSTART:20251102T060000
END:STANDARD
BEGIN:DAYLIGHT
TZOFFSETFROM:-0500
TZOFFSETTO:-0400
TZNAME:EDT
DTSTART:20260308T070000
END:DAYLIGHT
BEGIN:STANDARD
TZOFFSETFROM:-0400
TZOFFSETTO:-0500
TZNAME:EST
DTSTART:20261101T060000
END:STANDARD
BEGIN:DAYLIGHT
TZOFFSETFROM:-0500
TZOFFSETTO:-0400
TZNAME:EDT
DTSTART:20270314T070000
END:DAYLIGHT
BEGIN:STANDARD
TZOFFSETFROM:-0400
TZOFFSETTO:-0500
TZNAME:EST
DTSTART:20271107T060000
END:STANDARD
END:VTIMEZONE
BEGIN:VEVENT
DTSTART;TZID=America/New_York:20260225T080000
DTEND;TZID=America/New_York:20260225T140000
DTSTAMP:20260424T093015
CREATED:20260113T133658Z
LAST-MODIFIED:20260113T133658Z
UID:38544-1772006400-1772028000@www.njapa.com
SUMMARY:Asphalt Plant Maintenance Operations and Impact on Production
DESCRIPTION:[vc_row][vc_column][vc_column_text css=””] \nNJAPA Educational Seminar \nAsphalt Plant Maintenance Operations and Impact on Production \nPlease join us on Wednesday\, February 25\, 2026 at Forsgate Country Club\, 375 Forsgate Drive\, Monroe Township\, NJ from 8am to 2pm. The seminar includes continental breakfast and lunch. \nThe cost to attend is $125.00 for NJAPA members and $229.00 for non-members. \nWho Should Attend? \n• Asphalt Plant Operators\n• Operations Managers\n• Quality Control Technicians\n• Loader Operators\n• Engineers \nWhat Will You Learn? \n• Plant Inspection Process\n• Safety During Maintenance Activities\n• Scheduling Preventative Maintenance\n• What Should Be Done Daily\, Weekly\, Monthly\, Annually\n• Emission Controls\n• Scales and Metering\n• AC Tanks & Feed Bins\n• Structural Repairs and More\n• How all of These Contribute to Efficient Laydown \nIf you have any questions\, please contact Stacey Lindenmuth in the NJAPA office at (609) 838-1867 or email her at Staceyl@njapa.com[/vc_column_text][/vc_column][/vc_row]
URL:https://www.njapa.com/event/asphalt-plant-maintenance-operationslity-impact-production-webinar-2/
LOCATION:Forsgate Country Club\, 375 Forsgate Drive\, Monroe Township\, NJ\, 08831
ORGANIZER;CN="Stacey Lindenmuth":MAILTO:staceyl@njapa.com
END:VEVENT
BEGIN:VEVENT
DTSTART;TZID=America/New_York:20260225T190000
DTEND;TZID=America/New_York:20260225T230000
DTSTAMP:20260424T093015
CREATED:20260127T153947Z
LAST-MODIFIED:20260127T153947Z
UID:38604-1772046000-1772060400@www.njapa.com
SUMMARY:NJ Devils vs. Buffalo Sabres Game
DESCRIPTION:[vc_row][vc_column][vc_column_text css=””]Please Join the NJ Asphalt Pavement Association\, NJ Construction Materials Association and  Women of Asphalt- NJ Branch  \nFor a Night of NHL Hockey- NJ Devils vs. Buffalo Sabres \nSponsored By K & L Gates\, LLP \nWe are excited to invite you to enjoy a night out to experience fun\, food\, and a hockey game all from the comfort of a private suite.  Join us on Wednesday\, February 25\, 2026 at the Prudential Center\, 25 Lafayette Street\, Newark\, NJ.  Gates open at 6:00 pm and the game begins at 7:00 pm.  The cost is $270.00 per person. \nYour registration includes game ticket in a private suite\, food\, snacks\, water\, soda\, beer and wine all included.  Attendance is limited please register your attendees today. \nTo RSVP for the event please click here and fill out form and email it to Stacey Lindenmuth at staceyl@njapa.com in the NJAPA office.  Return the form by Wednesday\, February 18\, 2026.[/vc_column_text][/vc_column][/vc_row]
URL:https://www.njapa.com/event/devils-game/
LOCATION:Prudential Center\, 25 Lafayette Street\, Newark\, NJ\, United States
ORGANIZER;CN="Stacey Lindenmuth":MAILTO:staceyl@njapa.com
END:VEVENT
END:VCALENDAR